BEGIN:VCALENDAR
METHOD:PUBLISH
VERSION:2.0
PRODID:-//hacksw/handcal//NONSGML v1.0//EN
X-WR-TIMEZONE:Australia/Brisbane
CALSCALE:GREGORIAN
BEGIN:VEVENT
DTSTART;TZID=Australia/Brisbane:20260213T193000
DTEND;TZID=Australia/Brisbane:20260213T210000
UID:352064043468EC5AD92B5D1159771705528096065168EC5AD92B5E7654129103
DTSTAMP:20260423T183545
LOCATION:Jean Howie Drive Morningside
DESCRIPTION:Club Meeting starts 7.30pm. Unless otherwise noted, there will
  be a sausage sizzle around 6:30pm. The Zoom meeting details are Meeting 
 ID: 876 7045 9361 Passcode: 316422 Link https://us06web.zoom.us/j/87670459
 361?pwd=Nb2TjWqJimZidHrvXs88V4ab4fDabA.1
URL;VALUE=URI:http://spritecarclub.com/events/view.php?id=352064043468EC5A
 D92B5D1159771705528096065168EC5AD92B5E7654129103
SUMMARY:General Club Meeting
END:VEVENT
END:VCALENDAR
