BEGIN:VCALENDAR
METHOD:PUBLISH
VERSION:2.0
PRODID:-//hacksw/handcal//NONSGML v1.0//EN
X-WR-TIMEZONE:Australia/Brisbane
CALSCALE:GREGORIAN
BEGIN:VEVENT
DTSTART;TZID=Australia/Brisbane:20260404T103000
DTEND;TZID=Australia/Brisbane:20260404T153000
UID:158656138746912E52285664788166485141027678886912E522856718002781
DTSTAMP:20260422T183634
LOCATION:TBA
DESCRIPTION:Gary Hawkins is organising a Run sometime in April. Exact date
  and details to be advised
URL;VALUE=URI:http://spritecarclub.com/events/view.php?id=158656138746912E
 52285664788166485141027678886912E522856718002781
SUMMARY:Gary Hawkins  Run
END:VEVENT
END:VCALENDAR
