BEGIN:VCALENDAR
METHOD:PUBLISH
VERSION:2.0
PRODID:-//hacksw/handcal//NONSGML v1.0//EN
X-WR-TIMEZONE:Australia/Brisbane
CALSCALE:GREGORIAN
BEGIN:VEVENT
DTSTART;TZID=Australia/Brisbane:20260513T180000
DTEND;TZID=Australia/Brisbane:20260513T203000
UID:1421338812869E5E2ECAAFC9668157160355334703269E5E2ECAAFE589770442
DTSTAMP:20260421T072857
LOCATION:Helensvale Tavern
DESCRIPTION:Gold Coast Dinner, Helensvale Tavern 6pm
URL;VALUE=URI:http://spritecarclub.com/events/view.php?id=1421338812869E5E
 2ECAAFC9668157160355334703269E5E2ECAAFE589770442
SUMMARY:Gold Coast Dinner - Helensvale Tavern
END:VEVENT
END:VCALENDAR
