BEGIN:VCALENDAR
METHOD:PUBLISH
VERSION:2.0
PRODID:-//hacksw/handcal//NONSGML v1.0//EN
X-WR-TIMEZONE:Australia/Brisbane
CALSCALE:GREGORIAN
BEGIN:VEVENT
DTSTART;TZID=Australia/Brisbane:20260507T093000
DTEND;TZID=Australia/Brisbane:20260507T140000
UID:1065999714669E5C64F17225117235944069E5C64F1723D82332267210659997
DTSTAMP:20260421T030640
LOCATION:Walligan Road Maryborough
DESCRIPTION:A few days after I get back from the national Sprite meeting i
 n SA, we will have morning tea at Akarra Gardens, 28 Panorama Drive, Dundo
 wran Beach. For a change, we are meeting up at Walligan Road near the big 
 roundabout between Hervey Bay and Maryborough. We meet at 9.30 am for a sh
 ared convoy drive led by Leigh via the back roads to the venue . We are in
 viting our new Club member in Bundaberg to our events from now on. We are 
 also trying to get another Sprite in Tin Can Bay to come along too.
URL;VALUE=URI:http://spritecarclub.com/events/view.php?id=1065999714669E5C
 64F17225117235944069E5C64F1723D82332267210659997
SUMMARY:Wide Bay Catch Up
END:VEVENT
END:VCALENDAR
